Package: RiboCrypt Version: 1.12.0 Command: /Library/Frameworks/R.framework/Resources/bin/R CMD build --keep-empty-dirs --no-resave-data RiboCrypt StartedAt: 2025-02-13 21:35:47 -0500 (Thu, 13 Feb 2025) EndedAt: 2025-02-13 21:38:45 -0500 (Thu, 13 Feb 2025) EllapsedTime: 178.5 seconds RetCode: 0 Status: OK PackageFile: RiboCrypt_1.12.0.tar.gz PackageFileSize: 5.657 MiB