Package: RiboCrypt Version: 1.12.0 Command: /Library/Frameworks/R.framework/Resources/bin/R CMD INSTALL RiboCrypt StartedAt: 2025-02-13 18:24:28 -0500 (Thu, 13 Feb 2025) EndedAt: 2025-02-13 18:25:20 -0500 (Thu, 13 Feb 2025) EllapsedTime: 52.1 seconds RetCode: 0 Status: OK