Package: RiboCrypt Version: 1.12.0 Command: /Library/Frameworks/R.framework/Resources/bin/R CMD build --keep-empty-dirs --no-resave-data RiboCrypt StartedAt: 2025-02-14 06:33:38 -0500 (Fri, 14 Feb 2025) EndedAt: 2025-02-14 06:35:04 -0500 (Fri, 14 Feb 2025) EllapsedTime: 86.3 seconds RetCode: 0 Status: OK PackageFile: RiboCrypt_1.12.0.tar.gz PackageFileSize: 5.657 MiB