Package: Rhtslib Version: 3.2.0 Command: /home/biocbuild/R/R/bin/R CMD INSTALL Rhtslib StartedAt: 2025-01-27 21:06:52 -0000 (Mon, 27 Jan 2025) EndedAt: 2025-01-27 21:09:06 -0000 (Mon, 27 Jan 2025) EllapsedTime: 133.4 seconds RetCode: 0 Status: OK