Package: Rhtslib Version: 3.2.0 Command: /Library/Frameworks/R.framework/Resources/bin/R CMD check --install=check:Rhtslib.install-out.txt --library=/Library/Frameworks/R.framework/Resources/library --no-vignettes --timings Rhtslib_3.2.0.tar.gz StartedAt: 2025-04-01 08:03:09 -0400 (Tue, 01 Apr 2025) EndedAt: 2025-04-01 08:03:52 -0400 (Tue, 01 Apr 2025) EllapsedTime: 43.3 seconds RetCode: 0 Status: OK CheckDir: Rhtslib.Rcheck Warnings: 0