Package: Rhtslib Version: 3.2.0 Command: /Library/Frameworks/R.framework/Resources/bin/R CMD build --keep-empty-dirs --no-resave-data Rhtslib StartedAt: 2025-03-31 21:25:21 -0400 (Mon, 31 Mar 2025) EndedAt: 2025-03-31 21:26:52 -0400 (Mon, 31 Mar 2025) EllapsedTime: 91.4 seconds RetCode: 0 Status: OK PackageFile: Rhtslib_3.2.0.tar.gz PackageFileSize: 4.91 MiB