Package: Rhtslib Version: 3.2.0 Command: /Library/Frameworks/R.framework/Resources/bin/R CMD build --keep-empty-dirs --no-resave-data Rhtslib StartedAt: 2025-01-28 06:27:06 -0500 (Tue, 28 Jan 2025) EndedAt: 2025-01-28 06:27:56 -0500 (Tue, 28 Jan 2025) EllapsedTime: 49.2 seconds RetCode: 0 Status: OK PackageFile: Rhtslib_3.2.0.tar.gz PackageFileSize: 4.91 MiB