Package: Rhisat2 Version: 1.22.0 Command: /home/biocbuild/R/R/bin/R CMD build --keep-empty-dirs --no-resave-data Rhisat2 StartedAt: 2025-04-01 02:03:39 -0000 (Tue, 01 Apr 2025) EndedAt: 2025-04-01 02:08:50 -0000 (Tue, 01 Apr 2025) EllapsedTime: 311.2 seconds RetCode: 0 Status: OK PackageFile: Rhisat2_1.22.0.tar.gz PackageFileSize: 6.774 MiB