Package: Rhisat2 Version: 1.22.0 Command: /Library/Frameworks/R.framework/Resources/bin/R CMD INSTALL Rhisat2 StartedAt: 2025-01-30 16:27:35 -0500 (Thu, 30 Jan 2025) EndedAt: 2025-01-30 16:30:07 -0500 (Thu, 30 Jan 2025) EllapsedTime: 151.8 seconds RetCode: 0 Status: OK