Package: Rhisat2 Version: 1.22.0 Command: /Library/Frameworks/R.framework/Resources/bin/R CMD check --install=check:Rhisat2.install-out.txt --library=/Library/Frameworks/R.framework/Resources/library --no-vignettes --timings Rhisat2_1.22.0.tar.gz StartedAt: 2025-02-01 06:41:18 -0500 (Sat, 01 Feb 2025) EndedAt: 2025-02-01 06:46:28 -0500 (Sat, 01 Feb 2025) EllapsedTime: 309.3 seconds RetCode: 0 Status: WARNINGS CheckDir: Rhisat2.Rcheck Warnings: 1