Package: Rhisat2 Version: 1.22.0 Command: /Library/Frameworks/R.framework/Resources/bin/R CMD build --keep-empty-dirs --no-resave-data Rhisat2 StartedAt: 2025-01-31 06:27:42 -0500 (Fri, 31 Jan 2025) EndedAt: 2025-01-31 06:30:38 -0500 (Fri, 31 Jan 2025) EllapsedTime: 175.6 seconds RetCode: 0 Status: OK PackageFile: Rhisat2_1.22.0.tar.gz PackageFileSize: 6.745 MiB