Package: Rhdf5lib Version: 1.28.0 Command: /home/biocbuild/R/R/bin/R CMD check --install=check:Rhdf5lib.install-out.txt --library=/home/biocbuild/R/R/site-library --no-vignettes --timings Rhdf5lib_1.28.0.tar.gz StartedAt: 2025-01-28 10:33:48 -0000 (Tue, 28 Jan 2025) EndedAt: 2025-01-28 10:34:04 -0000 (Tue, 28 Jan 2025) EllapsedTime: 16.0 seconds RetCode: 0 Status: WARNINGS CheckDir: Rhdf5lib.Rcheck Warnings: 1