Package: Rhdf5lib Version: 1.28.0 Command: rm -rf Rhdf5lib.buildbin-libdir && mkdir Rhdf5lib.buildbin-libdir && F:\biocbuild\bbs-3.20-bioc\R\bin\R.exe CMD INSTALL --build --library=Rhdf5lib.buildbin-libdir Rhdf5lib_1.28.0.tar.gz StartedAt: 2025-01-28 08:58:09 -0500 (Tue, 28 Jan 2025) EndedAt: 2025-01-28 08:58:58 -0500 (Tue, 28 Jan 2025) EllapsedTime: 49.4 seconds RetCode: 0 Status: OK PackageFile: Rhdf5lib_1.28.0.zip PackageFileSize: 6.242 MiB