Package: Rhdf5lib Version: 1.28.0 Command: /home/biocbuild/bbs-3.20-bioc/R/bin/R CMD build --keep-empty-dirs --no-resave-data --md5 Rhdf5lib StartedAt: 2025-03-31 18:47:17 -0400 (Mon, 31 Mar 2025) EndedAt: 2025-03-31 18:51:01 -0400 (Mon, 31 Mar 2025) EllapsedTime: 224.2 seconds RetCode: 0 Status: OK PackageFile: Rhdf5lib_1.28.0.tar.gz PackageFileSize: 11.51 MiB