Package: Rhdf5lib Version: 1.28.0 Command: /Library/Frameworks/R.framework/Resources/bin/R CMD check --install=check:Rhdf5lib.install-out.txt --library=/Library/Frameworks/R.framework/Resources/library --no-vignettes --timings Rhdf5lib_1.28.0.tar.gz StartedAt: 2025-01-28 09:07:17 -0500 (Tue, 28 Jan 2025) EndedAt: 2025-01-28 09:08:01 -0500 (Tue, 28 Jan 2025) EllapsedTime: 43.6 seconds RetCode: 0 Status: WARNINGS CheckDir: Rhdf5lib.Rcheck Warnings: 1