Package: Rhdf5lib Version: 1.28.0 Command: rm -rf Rhdf5lib.buildbin-libdir && mkdir Rhdf5lib.buildbin-libdir && /Users/biocbuild/BBS/utils/build-universal.sh Rhdf5lib_1.28.0.tar.gz /Library/Frameworks/R.framework/Resources/bin/R Rhdf5lib.buildbin-libdir StartedAt: 2025-02-05 17:24:45 -0500 (Wed, 05 Feb 2025) EndedAt: 2025-02-05 17:30:27 -0500 (Wed, 05 Feb 2025) EllapsedTime: 342.5 seconds RetCode: 0 Status: OK PackageFile: Rhdf5lib_1.28.0.tgz PackageFileSize: 10.13 MiB