Package: Rgraphviz Version: 2.50.0 Command: chmod a+r Rgraphviz -R && F:\biocbuild\bbs-3.20-bioc\R\bin\R.exe CMD build --keep-empty-dirs --no-resave-data Rgraphviz StartedAt: 2025-01-27 21:29:06 -0500 (Mon, 27 Jan 2025) EndedAt: 2025-01-27 21:41:23 -0500 (Mon, 27 Jan 2025) EllapsedTime: 737.0 seconds RetCode: 0 Status: OK PackageFile: Rgraphviz_2.50.0.tar.gz PackageFileSize: 10.55 MiB