Package: Rgraphviz Version: 2.50.0 Command: /home/biocbuild/bbs-3.20-bioc/R/bin/R CMD INSTALL Rgraphviz StartedAt: 2025-01-27 15:58:32 -0500 (Mon, 27 Jan 2025) EndedAt: 2025-01-27 16:00:06 -0500 (Mon, 27 Jan 2025) EllapsedTime: 93.9 seconds RetCode: 0 Status: OK