Package: Rgraphviz Version: 2.50.0 Command: /home/biocbuild/bbs-3.20-bioc/R/bin/R CMD check --install=check:Rgraphviz.install-out.txt --library=/home/biocbuild/bbs-3.20-bioc/R/site-library --timings Rgraphviz_2.50.0.tar.gz StartedAt: 2025-01-28 02:30:20 -0500 (Tue, 28 Jan 2025) EndedAt: 2025-01-28 02:31:02 -0500 (Tue, 28 Jan 2025) EllapsedTime: 42.1 seconds RetCode: 0 Status: WARNINGS CheckDir: Rgraphviz.Rcheck Warnings: 2