Package: Rgraphviz Version: 2.50.0 Command: /home/biocbuild/bbs-3.20-bioc/R/bin/R CMD build --keep-empty-dirs --no-resave-data --md5 Rgraphviz StartedAt: 2025-01-27 19:44:21 -0500 (Mon, 27 Jan 2025) EndedAt: 2025-01-27 19:45:51 -0500 (Mon, 27 Jan 2025) EllapsedTime: 90.1 seconds RetCode: 0 Status: OK PackageFile: Rgraphviz_2.50.0.tar.gz PackageFileSize: 7.366 MiB