Package: RgnTX Version: 1.8.0 Command: chmod a+r RgnTX -R && F:\biocbuild\bbs-3.20-bioc\R\bin\R.exe CMD build --keep-empty-dirs --no-resave-data RgnTX StartedAt: 2025-01-30 21:23:37 -0500 (Thu, 30 Jan 2025) EndedAt: 2025-01-30 21:26:10 -0500 (Thu, 30 Jan 2025) EllapsedTime: 153.1 seconds RetCode: 0 Status: OK PackageFile: RgnTX_1.8.0.tar.gz PackageFileSize: 3.697 MiB