Package: RgnTX Version: 1.8.0 Command: rm -rf RgnTX.buildbin-libdir && mkdir RgnTX.buildbin-libdir && /Users/biocbuild/BBS/utils/build-universal.sh RgnTX_1.8.0.tar.gz /Library/Frameworks/R.framework/Resources/bin/R RgnTX.buildbin-libdir StartedAt: 2025-04-01 12:34:55 -0400 (Tue, 01 Apr 2025) EndedAt: 2025-04-01 12:36:18 -0400 (Tue, 01 Apr 2025) EllapsedTime: 82.9 seconds RetCode: 0 Status: OK PackageFile: RgnTX_1.8.0.tgz PackageFileSize: 2.703 MiB