Package: Rfastp Version: 1.16.0 Command: /home/biocbuild/R/R/bin/R CMD build --keep-empty-dirs --no-resave-data Rfastp StartedAt: 2025-01-28 02:44:55 -0000 (Tue, 28 Jan 2025) EndedAt: 2025-01-28 02:46:54 -0000 (Tue, 28 Jan 2025) EllapsedTime: 119.0 seconds RetCode: 0 Status: OK PackageFile: Rfastp_1.16.0.tar.gz PackageFileSize: 2.517 MiB