Package: Rfastp Version: 1.16.0 Command: /Library/Frameworks/R.framework/Resources/bin/R CMD INSTALL Rfastp StartedAt: 2025-03-31 15:30:57 -0400 (Mon, 31 Mar 2025) EndedAt: 2025-03-31 15:32:13 -0400 (Mon, 31 Mar 2025) EllapsedTime: 76.0 seconds RetCode: 0 Status: OK