Package: Rfastp Version: 1.16.0 Command: /Library/Frameworks/R.framework/Resources/bin/R CMD build --keep-empty-dirs --no-resave-data Rfastp StartedAt: 2025-04-01 06:07:40 -0400 (Tue, 01 Apr 2025) EndedAt: 2025-04-01 06:09:08 -0400 (Tue, 01 Apr 2025) EllapsedTime: 88.1 seconds RetCode: 0 Status: OK PackageFile: Rfastp_1.16.0.tar.gz PackageFileSize: 2.7 MiB