Package: ResidualMatrix Version: 1.16.0 Command: /home/biocbuild/bbs-3.20-bioc/R/bin/R CMD INSTALL ResidualMatrix StartedAt: 2025-03-31 15:14:10 -0400 (Mon, 31 Mar 2025) EndedAt: 2025-03-31 15:14:26 -0400 (Mon, 31 Mar 2025) EllapsedTime: 16.2 seconds RetCode: 0 Status: OK