Package: ReportingTools Version: 2.46.0 Command: /home/biocbuild/R/R/bin/R CMD INSTALL ReportingTools StartedAt: 2025-03-31 20:54:35 -0000 (Mon, 31 Mar 2025) EndedAt: 2025-03-31 20:55:53 -0000 (Mon, 31 Mar 2025) EllapsedTime: 77.6 seconds RetCode: 0 Status: OK