Package: ReportingTools Version: 2.46.0 Command: /home/biocbuild/R/R/bin/R CMD check --install=check:ReportingTools.install-out.txt --library=/home/biocbuild/R/R/site-library --no-vignettes --timings ReportingTools_2.46.0.tar.gz StartedAt: 2025-01-31 09:37:28 -0000 (Fri, 31 Jan 2025) EndedAt: 2025-01-31 09:49:55 -0000 (Fri, 31 Jan 2025) EllapsedTime: 747.6 seconds RetCode: 0 Status: OK CheckDir: ReportingTools.Rcheck Warnings: 0