Package: ReportingTools Version: 2.46.0 Command: chmod a+r ReportingTools -R && F:\biocbuild\bbs-3.20-bioc\R\bin\R.exe CMD build --keep-empty-dirs --no-resave-data ReportingTools StartedAt: 2025-03-31 21:24:42 -0400 (Mon, 31 Mar 2025) EndedAt: 2025-03-31 21:27:00 -0400 (Mon, 31 Mar 2025) EllapsedTime: 137.5 seconds RetCode: 0 Status: OK PackageFile: ReportingTools_2.46.0.tar.gz PackageFileSize: 1.79 MiB