Package: Repitools Version: 1.52.0 Command: /home/biocbuild/R/R/bin/R CMD INSTALL Repitools StartedAt: 2025-02-03 20:46:15 -0000 (Mon, 03 Feb 2025) EndedAt: 2025-02-03 20:47:02 -0000 (Mon, 03 Feb 2025) EllapsedTime: 47.1 seconds RetCode: 0 Status: OK