Package: Repitools Version: 1.52.0 Command: /home/biocbuild/bbs-3.20-bioc/R/bin/R CMD INSTALL Repitools StartedAt: 2025-02-03 15:38:04 -0500 (Mon, 03 Feb 2025) EndedAt: 2025-02-03 15:38:41 -0500 (Mon, 03 Feb 2025) EllapsedTime: 37.2 seconds RetCode: 0 Status: OK