Package: Repitools Version: 1.52.0 Command: /Library/Frameworks/R.framework/Resources/bin/R CMD INSTALL Repitools StartedAt: 2025-02-03 15:50:06 -0500 (Mon, 03 Feb 2025) EndedAt: 2025-02-03 15:51:28 -0500 (Mon, 03 Feb 2025) EllapsedTime: 81.8 seconds RetCode: 0 Status: OK