Package: Repitools Version: 1.52.0 Command: /Library/Frameworks/R.framework/Resources/bin/R CMD build --keep-empty-dirs --no-resave-data Repitools StartedAt: 2025-02-04 06:30:25 -0500 (Tue, 04 Feb 2025) EndedAt: 2025-02-04 06:31:33 -0500 (Tue, 04 Feb 2025) EllapsedTime: 68.0 seconds RetCode: 0 Status: OK PackageFile: Repitools_1.52.0.tar.gz PackageFileSize: 1.686 MiB