Package: RepViz Version: 1.22.0 Command: /home/biocbuild/bbs-3.20-bioc/R/bin/R CMD check --install=check:RepViz.install-out.txt --library=/home/biocbuild/bbs-3.20-bioc/R/site-library --timings RepViz_1.22.0.tar.gz StartedAt: 2025-01-14 01:25:29 -0500 (Tue, 14 Jan 2025) EndedAt: 2025-01-14 01:27:46 -0500 (Tue, 14 Jan 2025) EllapsedTime: 137.2 seconds RetCode: 0 Status: WARNINGS CheckDir: RepViz.Rcheck Warnings: 3