Package: RepViz Version: 1.22.0 Command: rm -rf RepViz.buildbin-libdir && mkdir RepViz.buildbin-libdir && /Users/biocbuild/BBS/utils/build-universal.sh RepViz_1.22.0.tar.gz /Library/Frameworks/R.framework/Resources/bin/R RepViz.buildbin-libdir StartedAt: 2025-02-05 17:22:25 -0500 (Wed, 05 Feb 2025) EndedAt: 2025-02-05 17:22:47 -0500 (Wed, 05 Feb 2025) EllapsedTime: 21.7 seconds RetCode: 0 Status: OK PackageFile: RepViz_1.22.0.tgz PackageFileSize: 314.7 KiB