Package: RegionalST Version: 1.4.2 Command: /home/biocbuild/R/R/bin/R CMD build --keep-empty-dirs --no-resave-data RegionalST StartedAt: 2025-01-28 02:41:45 -0000 (Tue, 28 Jan 2025) EndedAt: 2025-01-28 02:44:03 -0000 (Tue, 28 Jan 2025) EllapsedTime: 138.0 seconds RetCode: 0 Status: OK PackageFile: RegionalST_1.4.2.tar.gz PackageFileSize: 2.573 MiB