Package: RegionalST Version: 1.4.2 Command: rm -rf RegionalST.buildbin-libdir && mkdir RegionalST.buildbin-libdir && F:\biocbuild\bbs-3.20-bioc\R\bin\R.exe CMD INSTALL --build --library=RegionalST.buildbin-libdir RegionalST_1.4.2.tar.gz StartedAt: 2025-01-28 08:56:23 -0500 (Tue, 28 Jan 2025) EndedAt: 2025-01-28 08:57:08 -0500 (Tue, 28 Jan 2025) EllapsedTime: 44.4 seconds RetCode: 0 Status: OK PackageFile: RegionalST_1.4.2.zip PackageFileSize: 2.02 MiB