Package: RegionalST Version: 1.4.2 Command: /home/biocbuild/bbs-3.20-bioc/R/bin/R CMD INSTALL RegionalST StartedAt: 2025-01-27 16:56:40 -0500 (Mon, 27 Jan 2025) EndedAt: 2025-01-27 16:57:11 -0500 (Mon, 27 Jan 2025) EllapsedTime: 30.8 seconds RetCode: 0 Status: OK