Package: RegionalST Version: 1.4.2 Command: /home/biocbuild/bbs-3.20-bioc/R/bin/R CMD check --install=check:RegionalST.install-out.txt --library=/home/biocbuild/bbs-3.20-bioc/R/site-library --timings RegionalST_1.4.2.tar.gz StartedAt: 2025-01-28 02:25:10 -0500 (Tue, 28 Jan 2025) EndedAt: 2025-01-28 02:30:28 -0500 (Tue, 28 Jan 2025) EllapsedTime: 318.4 seconds RetCode: 0 Status: OK CheckDir: RegionalST.Rcheck Warnings: 0