Package: RegionalST Version: 1.4.2 Command: /home/biocbuild/bbs-3.20-bioc/R/bin/R CMD build --keep-empty-dirs --no-resave-data --md5 RegionalST StartedAt: 2025-01-27 19:42:01 -0500 (Mon, 27 Jan 2025) EndedAt: 2025-01-27 19:43:38 -0500 (Mon, 27 Jan 2025) EllapsedTime: 97.1 seconds RetCode: 0 Status: OK PackageFile: RegionalST_1.4.2.tar.gz PackageFileSize: 4.194 MiB