Package: RegEnrich Version: 1.16.0 Command: /home/biocbuild/R/R/bin/R CMD INSTALL RegEnrich StartedAt: 2025-02-03 21:05:29 -0000 (Mon, 03 Feb 2025) EndedAt: 2025-02-03 21:06:15 -0000 (Mon, 03 Feb 2025) EllapsedTime: 45.6 seconds RetCode: 0 Status: OK