Package: RegEnrich Version: 1.16.0 Command: /Library/Frameworks/R.framework/Resources/bin/R CMD INSTALL RegEnrich StartedAt: 2025-01-30 16:14:28 -0500 (Thu, 30 Jan 2025) EndedAt: 2025-01-30 16:15:48 -0500 (Thu, 30 Jan 2025) EllapsedTime: 80.2 seconds RetCode: 0 Status: OK