Package: RegEnrich Version: 1.16.0 Command: /Library/Frameworks/R.framework/Resources/bin/R CMD build --keep-empty-dirs --no-resave-data RegEnrich StartedAt: 2025-02-03 21:37:57 -0500 (Mon, 03 Feb 2025) EndedAt: 2025-02-03 21:46:02 -0500 (Mon, 03 Feb 2025) EllapsedTime: 485.0 seconds RetCode: 0 Status: OK PackageFile: RegEnrich_1.16.0.tar.gz PackageFileSize: 1.136 MiB