Package: RegEnrich Version: 1.16.0 Command: /Library/Frameworks/R.framework/Resources/bin/R CMD INSTALL RegEnrich StartedAt: 2025-03-31 17:10:37 -0400 (Mon, 31 Mar 2025) EndedAt: 2025-03-31 17:11:19 -0400 (Mon, 31 Mar 2025) EllapsedTime: 41.6 seconds RetCode: 0 Status: OK