Package: RegEnrich Version: 1.16.0 Command: /Library/Frameworks/R.framework/Resources/bin/R CMD build --keep-empty-dirs --no-resave-data RegEnrich StartedAt: 2025-02-04 06:27:02 -0500 (Tue, 04 Feb 2025) EndedAt: 2025-02-04 06:32:08 -0500 (Tue, 04 Feb 2025) EllapsedTime: 305.7 seconds RetCode: 0 Status: OK PackageFile: RegEnrich_1.16.0.tar.gz PackageFileSize: 1.136 MiB