Package: RegEnrich Version: 1.16.0 Command: rm -rf RegEnrich.buildbin-libdir && mkdir RegEnrich.buildbin-libdir && /Users/biocbuild/BBS/utils/build-universal.sh RegEnrich_1.16.0.tar.gz /Library/Frameworks/R.framework/Resources/bin/R RegEnrich.buildbin-libdir StartedAt: 2025-02-01 16:25:20 -0500 (Sat, 01 Feb 2025) EndedAt: 2025-02-01 16:26:05 -0500 (Sat, 01 Feb 2025) EllapsedTime: 45.5 seconds RetCode: 0 Status: OK PackageFile: RegEnrich_1.16.0.tgz PackageFileSize: 1.586 MiB