Package: RedisParam Version: 1.8.0 Command: /home/biocbuild/R/R/bin/R CMD INSTALL RedisParam StartedAt: 2025-03-31 20:38:54 -0000 (Mon, 31 Mar 2025) EndedAt: 2025-03-31 20:38:58 -0000 (Mon, 31 Mar 2025) EllapsedTime: 4.0 seconds RetCode: 0 Status: OK