Package: RedisParam Version: 1.8.0 Command: chmod a+r RedisParam -R && F:\biocbuild\bbs-3.20-bioc\R\bin\R.exe CMD build --keep-empty-dirs --no-resave-data RedisParam StartedAt: 2025-01-27 21:25:48 -0500 (Mon, 27 Jan 2025) EndedAt: 2025-01-27 21:26:41 -0500 (Mon, 27 Jan 2025) EllapsedTime: 53.4 seconds RetCode: 0 Status: OK PackageFile: RedisParam_1.8.0.tar.gz PackageFileSize: 950.5 KiB