Package: RedisParam Version: 1.8.0 Command: /Library/Frameworks/R.framework/Resources/bin/R CMD build --keep-empty-dirs --no-resave-data RedisParam StartedAt: 2025-01-30 22:10:35 -0500 (Thu, 30 Jan 2025) EndedAt: 2025-01-30 22:10:52 -0500 (Thu, 30 Jan 2025) EllapsedTime: 17.0 seconds RetCode: 0 Status: OK PackageFile: RedisParam_1.8.0.tar.gz PackageFileSize: 950.4 KiB