Package: RedisParam Version: 1.8.0 Command: rm -rf RedisParam.buildbin-libdir && mkdir RedisParam.buildbin-libdir && /Users/biocbuild/BBS/utils/build-universal.sh RedisParam_1.8.0.tar.gz /Library/Frameworks/R.framework/Resources/bin/R RedisParam.buildbin-libdir StartedAt: 2025-01-31 13:29:27 -0500 (Fri, 31 Jan 2025) EndedAt: 2025-01-31 13:29:37 -0500 (Fri, 31 Jan 2025) EllapsedTime: 9.8 seconds RetCode: 0 Status: OK PackageFile: RedisParam_1.8.0.tgz PackageFileSize: 1.01 MiB